BEGIN:VCALENDAR
VERSION:2.0
PRODID:-// - ECPv6.15.20//NONSGML v1.0//EN
CALSCALE:GREGORIAN
METHOD:PUBLISH
X-ORIGINAL-URL:https://pbkbezbednost.mk
X-WR-CALDESC:Events for 
REFRESH-INTERVAL;VALUE=DURATION:PT1H
X-Robots-Tag:noindex
X-PUBLISHED-TTL:PT1H
BEGIN:VTIMEZONE
TZID:UTC
BEGIN:STANDARD
TZOFFSETFROM:+0000
TZOFFSETTO:+0000
TZNAME:UTC
DTSTART:20250101T000000
END:STANDARD
END:VTIMEZONE
BEGIN:VEVENT
DTSTART;TZID=UTC:20260401T210000
DTEND;TZID=UTC:20270401T220000
DTSTAMP:20260420T052850
CREATED:20260402T075911Z
LAST-MODIFIED:20260402T083904Z
UID:5998-1775077200-1806616800@pbkbezbednost.mk
SUMMARY:БЕСПЛАТНИ ЧАСОВИ ПО ФИТНЕС И САМООДБРАНА ЗА ЖЕНИ И МАЖИ
DESCRIPTION:Бесплатни часови по фитнес и самоодбрана за жени и мажи во општина Карпош. Тренинзите се одржуваат двапати неделно под водство на стручен тим. Пријавувањето е во тек. \n\n📍 Локација: ООУ „Петар Поп Арсов“\n🗓 Термини: понеделник и среда\n⏰ Време: 21:00 – 22:00\n📞 Пријавување: 070/274-813
URL:https://pbkbezbednost.mk/event/%d0%b1%d0%b5%d1%81%d0%bf%d0%bb%d0%b0%d1%82%d0%bd%d0%b8-%d1%87%d0%b0%d1%81%d0%be%d0%b2%d0%b8-%d0%bf%d0%be-%d1%84%d0%b8%d1%82%d0%bd%d0%b5%d1%81-%d0%b8-%d1%81%d0%b0%d0%bc%d0%be%d0%be%d0%b4%d0%b1%d1%80/
LOCATION:ООУ „Петар Поп Арсов“\, ООУ „Петар Поп Арсов“ - Скопје\, Sklopje\, Општина Карпош\, 1000\, North Macedonia
CATEGORIES:Wrestling
ATTACH;FMTTYPE=image/jpeg:https://pbkbezbednost.mk/wp-content/uploads/2026/03/659119306_1381365074023971_7218786114878927735_n.jpg
ORGANIZER;CN="%D0%9F%D0%BE%D0%BB%D0%B8%D1%86%D0%B8%D1%81%D0%BA%D0%B8 %D0%B1%D0%BE%D1%80%D0%B5%D1%87%D0%BA%D0%B8 %D0%BA%D0%BB%D1%83%D0%B1 %E2%80%9E%D0%91%D0%B5%D0%B7%D0%B1%D0%B5%D0%B4%D0%BD%D0%BE%D1%81%D1%82%E2%80%9C":MAILTO:pbkbezbednost@gmail.com
END:VEVENT
BEGIN:VEVENT
DTSTART;TZID=UTC:20260418T113000
DTEND;TZID=UTC:20260418T213000
DTSTAMP:20260420T052850
CREATED:20260419T191214Z
LAST-MODIFIED:20260419T191244Z
UID:6096-1776511800-1776547800@pbkbezbednost.mk
SUMMARY:Европски шампионат во кинсеко борење Шуи Џиао – Скопје 2026
DESCRIPTION:ТРЕТ МЕЃУНАРОДЕН ТУРНИР – ЕВРОПСКИ ШАМПИОНАТ ВО КИНЕСКО БОРЕЊЕ (SHUAI JIAO)📅 18 април 2026 година📍 Спортска сала „Наум Наумовски – Борче“ (Партизан)\, Општина Карпош\, Скопје \nНа 18 април 2026 година\, во Скопје ќе се одржи Вториот меѓународен турнир ЕВРОПСКИ ШАМПИОНАТ ВО КИНЕСКО БОРЕЊЕ (SHUAI JIAO). \n🏆 Турнирот ќе се одржи во спортската сала „Наум Наумовски – Борче“ (Партизан)\, во Општина Карпош. \n\n📋 ПРОГРАМА – 18 април 2026 (сабота): \n🕤 11:30 – Почеток на натпреварите🎉 15:30 – 16:30 – Свечено отворање🥋 16:30 – Финални натпревари🏅 По финалните борби: Доделување на награди🔚 Затворање на првенството \n\nОрганизатори и поддржувачи: \n🔹 Технички организатор: Полициски спортски клуб за кинеско борење „7-ми Мај – Шуаи Џиао“\, Скопје🔹 Коорганизатори: – ПБК „Безбедност“ – Europe of Chinese Wrestling (Shuai Jiao) – Општина Карпош🔹 Покровител: Општина Карпош
URL:https://pbkbezbednost.mk/event/%d0%b5%d0%b2%d1%80%d0%be%d0%bf%d1%81%d0%ba%d0%b8-%d1%88%d0%b0%d0%bc%d0%bf%d0%b8%d0%be%d0%bd%d0%b0%d1%82-%d0%b2%d0%be-%d0%ba%d0%b8%d0%bd%d1%81%d0%b5%d0%ba%d0%be-%d0%b1%d0%be%d1%80%d0%b5%d1%9a%d0%b5/
CATEGORIES:Wrestling
ATTACH;FMTTYPE=image/png:https://pbkbezbednost.mk/wp-content/uploads/2025/06/poster_MK.png
END:VEVENT
END:VCALENDAR