BEGIN:VCALENDAR
VERSION:2.0
PRODID:-// - ECPv6.15.20//NONSGML v1.0//EN
CALSCALE:GREGORIAN
METHOD:PUBLISH
X-ORIGINAL-URL:https://pbkbezbednost.mk
X-WR-CALDESC:Events for 
REFRESH-INTERVAL;VALUE=DURATION:PT1H
X-Robots-Tag:noindex
X-PUBLISHED-TTL:PT1H
BEGIN:VTIMEZONE
TZID:UTC
BEGIN:STANDARD
TZOFFSETFROM:+0000
TZOFFSETTO:+0000
TZNAME:UTC
DTSTART:20240101T000000
END:STANDARD
END:VTIMEZONE
BEGIN:VEVENT
DTSTART;TZID=UTC:20250621T093000
DTEND;TZID=UTC:20250621T163000
DTSTAMP:20260423T174956
CREATED:20250620T183940Z
LAST-MODIFIED:20250620T185521Z
UID:5976-1750498200-1750523400@pbkbezbednost.mk
SUMMARY:Европски Шуи Џиао КУП – Скопје 2025
DESCRIPTION:ВТОР МЕЃУНАРОДЕН ТУРНИР – ЕВРОПСКИ КУП ВО КИНЕСКО БОРЕЊЕ (SHUAI JIAO)📅 21 јуни 2025 година📍 Спортска сала „Наум Наумовски – Борче“ (Партизан)\, Општина Карпош\, Скопје \nНа 21 јуни 2025 година\, во Скопје ќе се одржи Вториот меѓународен турнир ЕВРОПСКИ КУП ВО КИНЕСКО БОРЕЊЕ (SHUAI JIAO). \n🏆 Турнирот ќе се одржи во спортската сала „Наум Наумовски – Борче“ (Партизан)\, во Општина Карпош. \n\n📋 ПРОГРАМА – 21 јуни 2025 (сабота): \n🕤 09:30 – Почеток на натпреварите🎉 15:30 – 16:30 – Свечено отворање🥋 16:30 – Финални натпревари🏅 По финалните борби: Доделување на награди🔚 Затворање на првенството \n\nОрганизатори и поддржувачи: \n🔹 Технички организатор: Полициски спортски клуб за кинеско борење „7-ми Мај – Шуаи Џиао“\, Скопје🔹 Коорганизатори: – ПБК „Безбедност“ – Europe of Chinese Wrestling (Shuai Jiao) – Општина Карпош🔹 Покровител: г-дин Стевчо Јакимовски\, градоначалник на Општина Карпош
URL:https://pbkbezbednost.mk/event/%d0%b5%d0%b2%d1%80%d0%be%d0%bf%d1%81%d0%ba%d0%b8-%d1%88%d1%83%d0%b8-%d1%9f%d0%b8%d0%b0%d0%be-%d0%ba%d1%83%d0%bf-%d1%81%d0%ba%d0%be%d0%bf%d1%98%d0%b5-2025/
ATTACH;FMTTYPE=application/pdf:https://pbkbezbednost.mk/wp-content/uploads/2025/06/Add-a-heading-2.pdf
END:VEVENT
END:VCALENDAR