BEGIN:VCALENDAR
VERSION:2.0
PRODID:-// - ECPv6.15.20//NONSGML v1.0//EN
CALSCALE:GREGORIAN
METHOD:PUBLISH
X-ORIGINAL-URL:https://pbkbezbednost.mk
X-WR-CALDESC:Events for 
REFRESH-INTERVAL;VALUE=DURATION:PT1H
X-Robots-Tag:noindex
X-PUBLISHED-TTL:PT1H
BEGIN:VTIMEZONE
TZID:Europe/Paris
BEGIN:DAYLIGHT
TZOFFSETFROM:+0100
TZOFFSETTO:+0200
TZNAME:CEST
DTSTART:20230326T010000
END:DAYLIGHT
BEGIN:STANDARD
TZOFFSETFROM:+0200
TZOFFSETTO:+0100
TZNAME:CET
DTSTART:20231029T010000
END:STANDARD
BEGIN:DAYLIGHT
TZOFFSETFROM:+0100
TZOFFSETTO:+0200
TZNAME:CEST
DTSTART:20240331T010000
END:DAYLIGHT
BEGIN:STANDARD
TZOFFSETFROM:+0200
TZOFFSETTO:+0100
TZNAME:CET
DTSTART:20241027T010000
END:STANDARD
BEGIN:DAYLIGHT
TZOFFSETFROM:+0100
TZOFFSETTO:+0200
TZNAME:CEST
DTSTART:20250330T010000
END:DAYLIGHT
BEGIN:STANDARD
TZOFFSETFROM:+0200
TZOFFSETTO:+0100
TZNAME:CET
DTSTART:20251026T010000
END:STANDARD
END:VTIMEZONE
BEGIN:VEVENT
DTSTART;TZID=Europe/Paris:20240614T090000
DTEND;TZID=Europe/Paris:20240616T200000
DTSTAMP:20260424T123721
CREATED:20240612T111506Z
LAST-MODIFIED:20240613T065958Z
UID:5859-1718355600-1718568000@pbkbezbednost.mk
SUMMARY:Европски Шуи Џиао КУП  - Скопје
DESCRIPTION:На 15 Јуни 2024 година во Скопје ќе се одржи прв меѓународен турнир ЕВРОПСКИ КУП ВО КИНЕСКО БОРЕЊЕ (SHUAI JIAO)\, на кој ќе земат учество Германија\, Франција\, Босна и Херцеговина\, Шпанија\, Италија\, Србија и РС Македонија. Натпреварите ќе се одржат во спортската сала во ОУ „Невена Георгиева – Дуња“\, Општина Кисела Вода\, Скопје. \nПРОГРАМА 15 Јуни 2024 Сабота \n09:30 Почеток на натпреварите \n15:30-16:30 Свечено отворање \n16:30 Финални натпревари \n18:00 Доделувањенанагради (медали\, дипломи\, пехари) \n20:00 Затварање на првенството \n  \nТехнички организатор: Полициски спортски клуб за кинеско борење 7-ми МАЈ-ШУИ ЏИАО Скопје \nКоорганизатор: ПБК БЕЗВЕДНОСТ \nКоорганизатор: Europe of Chinese Wrestling (Shuai Jiao) \nСООРГАНИЗАТОР: Општина КИСЕЛА ВОДА \nПОКРОВИТЕЛ: Г-дин Орце Ѓорѓиевски\, Градоначалник на Општина Кисела Вода
URL:https://pbkbezbednost.mk/event/nastan-evropski-sui-dziao-kup/
CATEGORIES:Wrestling
END:VEVENT
END:VCALENDAR